BEGIN:VCALENDAR
VERSION:2.0
PRODID:icalendar-ruby
CALSCALE:GREGORIAN
METHOD:PUBLISH
BEGIN:VEVENT
DTSTAMP:20260423T222358Z
UID:2-290306@firstunited214.tithelysetup2.com
DTSTART:20260625T223000Z
DTEND:20260626T000000Z
CLASS:PUBLIC
CREATED:20260423T171930
DESCRIPTION:There are so many opportunities in our music department. From c
 hoir to bells to the band... there is a place for you. For more informatio
 n\, please see Joanne or contact the church office at 727.868.6178.
LAST-MODIFIED:20260423T171930
LOCATION:Worship Center
SUMMARY:Choir Rehearsals
URL;VALUE=URI:https://hudsonfirstumc.org/events/choir-rehearsals/2026-06-25
ATTACH;FILENAME=Music-Department.png;FMTTYPE=image/png:https://dq5pwpg1q8ru
 0.cloudfront.net/2026/04/14/13/11/33/63fdc24c-7d0e-49cf-8d04-82be73d7ad3c/
 Music-Department.png
END:VEVENT
END:VCALENDAR
